1.693333333000
0.000000000000
0.000000000000
-1.693333333000
332515.0467
5135882.5530
