1.693333333000
0.000000000000
0.000000000000
-1.693333333000
340583.2467
5133858.9530
