1.693333333000
0.000000000000
0.000000000000
-1.693333333000
337358.2467
5128616.3530
