1.693333333000
0.000000000000
0.000000000000
-1.693333333000
337389.2467
5123372.5530
